Package: CellBarcode Version: 1.13.1 Command: /Library/Frameworks/R.framework/Resources/bin/R CMD check --install=check:CellBarcode.install-out.txt --library=/Library/Frameworks/R.framework/Resources/library --no-vignettes --timings CellBarcode_1.13.1.tar.gz StartedAt: 2025-02-19 18:27:48 -0500 (Wed, 19 Feb 2025) EndedAt: 2025-02-19 18:29:28 -0500 (Wed, 19 Feb 2025) EllapsedTime: 100.3 seconds RetCode: 0 Status: OK CheckDir: CellBarcode.Rcheck Warnings: 0