Package: CeTF Version: 1.19.0 Command: E:\biocbuild\bbs-3.21-bioc\R\bin\R.exe CMD INSTALL CeTF StartedAt: 2025-02-20 16:59:17 -0500 (Thu, 20 Feb 2025) EndedAt: 2025-02-20 17:00:54 -0500 (Thu, 20 Feb 2025) EllapsedTime: 97.3 seconds RetCode: 0 Status: OK