Package: CeTF Version: 1.19.0 Command: /Library/Frameworks/R.framework/Resources/bin/R CMD build --keep-empty-dirs --no-resave-data CeTF StartedAt: 2025-02-20 16:10:04 -0500 (Thu, 20 Feb 2025) EndedAt: 2025-02-20 16:12:36 -0500 (Thu, 20 Feb 2025) EllapsedTime: 152.0 seconds RetCode: 0 Status: OK PackageFile: CeTF_1.19.0.tar.gz PackageFileSize: 4.086 MiB