Package: CeTF Version: 1.19.0 Command: /Library/Frameworks/R.framework/Resources/bin/R CMD INSTALL CeTF StartedAt: 2025-02-20 15:29:09 -0500 (Thu, 20 Feb 2025) EndedAt: 2025-02-20 15:29:29 -0500 (Thu, 20 Feb 2025) EllapsedTime: 20.7 seconds RetCode: 0 Status: OK