Package: CeTF Version: 1.19.0 Command: /Library/Frameworks/R.framework/Resources/bin/R CMD check --install=check:CeTF.install-out.txt --library=/Library/Frameworks/R.framework/Resources/library --no-vignettes --timings CeTF_1.19.0.tar.gz StartedAt: 2025-02-20 18:27:49 -0500 (Thu, 20 Feb 2025) EndedAt: 2025-02-20 18:29:46 -0500 (Thu, 20 Feb 2025) EllapsedTime: 116.5 seconds RetCode: 0 Status: OK CheckDir: CeTF.Rcheck Warnings: 0