Package: CausalR Version: 1.39.0 Command: /Library/Frameworks/R.framework/Resources/bin/R CMD build --keep-empty-dirs --no-resave-data CausalR StartedAt: 2025-02-19 16:07:59 -0500 (Wed, 19 Feb 2025) EndedAt: 2025-02-19 16:08:24 -0500 (Wed, 19 Feb 2025) EllapsedTime: 25.1 seconds RetCode: 0 Status: OK PackageFile: CausalR_1.39.0.tar.gz PackageFileSize: 573.6 KiB