Package: CausalR Version: 1.39.0 Command: /home/biocbuild/R/R/bin/R CMD build --keep-empty-dirs --no-resave-data CausalR StartedAt: 2025-01-28 21:35:36 -0000 (Tue, 28 Jan 2025) EndedAt: 2025-01-28 21:35:55 -0000 (Tue, 28 Jan 2025) EllapsedTime: 19.0 seconds RetCode: 0 Status: OK PackageFile: CausalR_1.39.0.tar.gz PackageFileSize: 675.9 KiB