Package: CausalR Version: 1.39.0 Command: rm -rf CausalR.buildbin-libdir && mkdir CausalR.buildbin-libdir && /Users/biocbuild/BBS/utils/build-universal.sh CausalR_1.39.0.tar.gz /Library/Frameworks/R.framework/Resources/bin/R CausalR.buildbin-libdir StartedAt: 2025-02-19 22:15:58 -0500 (Wed, 19 Feb 2025) EndedAt: 2025-02-19 22:16:01 -0500 (Wed, 19 Feb 2025) EllapsedTime: 3.1 seconds RetCode: 0 Status: OK PackageFile: CausalR_1.39.0.tgz PackageFileSize: 646.4 KiB