Package: CardinalIO Version: 1.5.0 Command: chmod a+r CardinalIO -R && E:\biocbuild\bbs-3.21-bioc\R\bin\R.exe CMD build --keep-empty-dirs --no-resave-data CardinalIO StartedAt: 2025-02-19 17:40:57 -0500 (Wed, 19 Feb 2025) EndedAt: 2025-02-19 17:41:52 -0500 (Wed, 19 Feb 2025) EllapsedTime: 55.8 seconds RetCode: 0 Status: OK PackageFile: CardinalIO_1.5.0.tar.gz PackageFileSize: 939.3 KiB