Package: CardinalIO Version: 1.5.0 Command: /home/biocbuild/bbs-3.21-bioc/R/bin/R CMD INSTALL CardinalIO StartedAt: 2025-02-19 15:12:40 -0500 (Wed, 19 Feb 2025) EndedAt: 2025-02-19 15:12:56 -0500 (Wed, 19 Feb 2025) EllapsedTime: 16.8 seconds RetCode: 0 Status: OK