Package: CardinalIO Version: 1.5.0 Command: /Library/Frameworks/R.framework/Resources/bin/R CMD INSTALL CardinalIO StartedAt: 2025-02-20 15:15:05 -0500 (Thu, 20 Feb 2025) EndedAt: 2025-02-20 15:15:27 -0500 (Thu, 20 Feb 2025) EllapsedTime: 21.4 seconds RetCode: 0 Status: OK