Package: CardinalIO Version: 1.5.0 Command: /Library/Frameworks/R.framework/Resources/bin/R CMD build --keep-empty-dirs --no-resave-data CardinalIO StartedAt: 2025-02-20 16:07:00 -0500 (Thu, 20 Feb 2025) EndedAt: 2025-02-20 16:07:26 -0500 (Thu, 20 Feb 2025) EllapsedTime: 26.3 seconds RetCode: 0 Status: OK PackageFile: CardinalIO_1.5.0.tar.gz PackageFileSize: 966.4 KiB