Package: Cardinal Version: 3.9.0 Command: /Library/Frameworks/R.framework/Resources/bin/R CMD build --keep-empty-dirs --no-resave-data Cardinal StartedAt: 2025-02-20 16:06:53 -0500 (Thu, 20 Feb 2025) EndedAt: 2025-02-20 16:13:20 -0500 (Thu, 20 Feb 2025) EllapsedTime: 387.2 seconds RetCode: 0 Status: OK PackageFile: Cardinal_3.9.0.tar.gz PackageFileSize: 5.161 MiB