Package: Cardinal Version: 3.9.0 Command: rm -rf Cardinal.buildbin-libdir && mkdir Cardinal.buildbin-libdir && /Users/biocbuild/BBS/utils/build-universal.sh Cardinal_3.9.0.tar.gz /Library/Frameworks/R.framework/Resources/bin/R Cardinal.buildbin-libdir StartedAt: 2025-02-20 22:12:39 -0500 (Thu, 20 Feb 2025) EndedAt: 2025-02-20 22:12:49 -0500 (Thu, 20 Feb 2025) EllapsedTime: 10.2 seconds RetCode: 0 Status: OK PackageFile: Cardinal_3.9.0.tgz PackageFileSize: 6.651 MiB