Package: CaMutQC Version: 1.3.0 Command: /home/biocbuild/bbs-3.21-bioc/R/bin/R CMD check --install=check:CaMutQC.install-out.txt --library=/home/biocbuild/bbs-3.21-bioc/R/site-library --timings CaMutQC_1.3.0.tar.gz StartedAt: 2025-02-19 20:33:33 -0500 (Wed, 19 Feb 2025) EndedAt: 2025-02-19 20:37:34 -0500 (Wed, 19 Feb 2025) EllapsedTime: 241.3 seconds RetCode: 0 Status: OK CheckDir: CaMutQC.Rcheck Warnings: 0