Package: CaDrA Version: 1.5.0 Command: E:\biocbuild\bbs-3.21-bioc\R\bin\R.exe CMD INSTALL CaDrA StartedAt: 2025-02-19 15:58:53 -0500 (Wed, 19 Feb 2025) EndedAt: 2025-02-19 15:59:30 -0500 (Wed, 19 Feb 2025) EllapsedTime: 37.3 seconds RetCode: 0 Status: OK