Package: CaDrA Version: 1.5.0 Command: chmod a+r CaDrA -R && E:\biocbuild\bbs-3.21-bioc\R\bin\R.exe CMD build --keep-empty-dirs --no-resave-data CaDrA StartedAt: 2025-02-18 17:37:41 -0500 (Tue, 18 Feb 2025) EndedAt: 2025-02-18 17:40:47 -0500 (Tue, 18 Feb 2025) EllapsedTime: 186.4 seconds RetCode: 0 Status: OK PackageFile: CaDrA_1.5.0.tar.gz PackageFileSize: 1.542 MiB