Package: CaDrA Version: 1.5.0 Command: /home/biocbuild/bbs-3.21-bioc/R/bin/R CMD check --install=check:CaDrA.install-out.txt --library=/home/biocbuild/bbs-3.21-bioc/R/site-library --timings CaDrA_1.5.0.tar.gz StartedAt: 2025-02-19 20:31:37 -0500 (Wed, 19 Feb 2025) EndedAt: 2025-02-19 20:40:51 -0500 (Wed, 19 Feb 2025) EllapsedTime: 554.7 seconds RetCode: 0 Status: OK CheckDir: CaDrA.Rcheck Warnings: 0