Package: CaDrA Version: 1.5.0 Command: /Library/Frameworks/R.framework/Resources/bin/R CMD INSTALL CaDrA StartedAt: 2025-02-19 15:13:24 -0500 (Wed, 19 Feb 2025) EndedAt: 2025-02-19 15:13:36 -0500 (Wed, 19 Feb 2025) EllapsedTime: 11.1 seconds RetCode: 0 Status: OK