Package: CTexploreR Version: 1.3.0 Command: E:\biocbuild\bbs-3.21-bioc\R\bin\R.exe CMD INSTALL CTexploreR StartedAt: 2025-02-21 16:54:51 -0500 (Fri, 21 Feb 2025) EndedAt: 2025-02-21 16:55:46 -0500 (Fri, 21 Feb 2025) EllapsedTime: 54.8 seconds RetCode: 0 Status: OK