Package: CTexploreR Version: 1.3.0 Command: /Library/Frameworks/R.framework/Resources/bin/R CMD check --install=check:CTexploreR.install-out.txt --library=/Library/Frameworks/R.framework/Resources/library --no-vignettes --timings CTexploreR_1.3.0.tar.gz StartedAt: 2025-02-20 19:46:42 -0500 (Thu, 20 Feb 2025) EndedAt: 2025-02-20 20:07:49 -0500 (Thu, 20 Feb 2025) EllapsedTime: 1268.0 seconds RetCode: 0 Status: OK CheckDir: CTexploreR.Rcheck Warnings: 0