Package: CTexploreR Version: 1.3.0 Command: rm -rf CTexploreR.buildbin-libdir && mkdir CTexploreR.buildbin-libdir && /Users/biocbuild/BBS/utils/build-universal.sh CTexploreR_1.3.0.tar.gz /Library/Frameworks/R.framework/Resources/bin/R CTexploreR.buildbin-libdir StartedAt: 2025-02-22 00:27:12 -0500 (Sat, 22 Feb 2025) EndedAt: 2025-02-22 00:28:15 -0500 (Sat, 22 Feb 2025) EllapsedTime: 62.8 seconds RetCode: 0 Status: OK PackageFile: CTexploreR_1.3.0.tgz PackageFileSize: 10.11 MiB