Package: CTdata Version: 1.7.0 Command: E:\biocbuild\bbs-3.21-bioc\R\bin\R.exe CMD INSTALL CTdata StartedAt: 2025-02-20 15:44:58 -0500 (Thu, 20 Feb 2025) EndedAt: 2025-02-20 15:45:42 -0500 (Thu, 20 Feb 2025) EllapsedTime: 44.3 seconds RetCode: 0 Status: OK