Package: CTdata Version: 1.7.0 Command: E:\biocbuild\bbs-3.21-bioc\R\bin\R.exe CMD check --no-multiarch --install=check:CTdata.install-out.txt --library=E:\biocbuild\bbs-3.21-bioc\R\library --no-vignettes --timings CTdata_1.7.0.tar.gz StartedAt: 2025-02-21 00:15:54 -0500 (Fri, 21 Feb 2025) EndedAt: 2025-02-21 00:18:07 -0500 (Fri, 21 Feb 2025) EllapsedTime: 132.9 seconds RetCode: 0 Status: OK CheckDir: CTdata.Rcheck Warnings: 0