Package: CTdata Version: 1.7.0 Command: /home/biocbuild/bbs-3.21-bioc/R/bin/R CMD INSTALL CTdata StartedAt: 2025-02-20 15:35:12 -0500 (Thu, 20 Feb 2025) EndedAt: 2025-02-20 15:35:26 -0500 (Thu, 20 Feb 2025) EllapsedTime: 13.8 seconds RetCode: 0 Status: OK