Package: CTdata Version: 1.7.0 Command: /Library/Frameworks/R.framework/Resources/bin/R CMD check --install=check:CTdata.install-out.txt --library=/Library/Frameworks/R.framework/Resources/library --no-vignettes --timings CTdata_1.7.0.tar.gz StartedAt: 2025-02-20 19:46:29 -0500 (Thu, 20 Feb 2025) EndedAt: 2025-02-20 19:48:34 -0500 (Thu, 20 Feb 2025) EllapsedTime: 125.3 seconds RetCode: 0 Status: OK CheckDir: CTdata.Rcheck Warnings: 0