Package: CTSV Version: 1.9.0 Command: rm -rf CTSV.buildbin-libdir && mkdir CTSV.buildbin-libdir && /Users/biocbuild/BBS/utils/build-universal.sh CTSV_1.9.0.tar.gz /Library/Frameworks/R.framework/Resources/bin/R CTSV.buildbin-libdir StartedAt: 2025-02-20 00:27:36 -0500 (Thu, 20 Feb 2025) EndedAt: 2025-02-20 00:28:13 -0500 (Thu, 20 Feb 2025) EllapsedTime: 37.0 seconds RetCode: 0 Status: OK PackageFile: CTSV_1.9.0.tgz PackageFileSize: 320.8 KiB