Package: CTDquerier Version: 2.15.0 Command: /Library/Frameworks/R.framework/Resources/bin/R CMD check --install=check:CTDquerier.install-out.txt --library=/Library/Frameworks/R.framework/Resources/library --no-vignettes --timings CTDquerier_2.15.0.tar.gz StartedAt: 2025-02-20 18:45:00 -0500 (Thu, 20 Feb 2025) EndedAt: 2025-02-20 18:46:19 -0500 (Thu, 20 Feb 2025) EllapsedTime: 79.9 seconds RetCode: 0 Status: WARNINGS CheckDir: CTDquerier.Rcheck Warnings: 1