Package: CTDquerier Version: 2.15.0 Command: /Library/Frameworks/R.framework/Resources/bin/R CMD build --keep-empty-dirs --no-resave-data CTDquerier StartedAt: 2025-02-20 16:02:00 -0500 (Thu, 20 Feb 2025) EndedAt: 2025-02-20 16:02:01 -0500 (Thu, 20 Feb 2025) EllapsedTime: 1.0 seconds RetCode: 0 Status: OK PackageFile: CTDquerier_2.15.0.tar.gz PackageFileSize: 2.803 MiB