Package: CTDquerier Version: 2.15.0 Command: rm -rf CTDquerier.buildbin-libdir && mkdir CTDquerier.buildbin-libdir && /Users/biocbuild/BBS/utils/build-universal.sh CTDquerier_2.15.0.tar.gz /Library/Frameworks/R.framework/Resources/bin/R CTDquerier.buildbin-libdir StartedAt: 2025-02-20 22:15:27 -0500 (Thu, 20 Feb 2025) EndedAt: 2025-02-20 22:15:31 -0500 (Thu, 20 Feb 2025) EllapsedTime: 4.0 seconds RetCode: 0 Status: OK PackageFile: CTDquerier_2.15.0.tgz PackageFileSize: 2.717 MiB