Package: CSSQ Version: 1.20.0 Command: /Library/Frameworks/R.framework/Resources/bin/R CMD INSTALL CSSQ StartedAt: 2025-10-06 17:16:18 -0400 (Mon, 06 Oct 2025) EndedAt: 2025-10-06 17:17:03 -0400 (Mon, 06 Oct 2025) EllapsedTime: 44.9 seconds RetCode: 0 Status: OK