Package: CSAR Version: 1.59.0 Command: chmod a+r CSAR -R && E:\biocbuild\bbs-3.21-bioc\R\bin\R.exe CMD build --keep-empty-dirs --no-resave-data CSAR StartedAt: 2025-02-20 18:09:25 -0500 (Thu, 20 Feb 2025) EndedAt: 2025-02-20 18:10:07 -0500 (Thu, 20 Feb 2025) EllapsedTime: 41.7 seconds RetCode: 0 Status: OK PackageFile: CSAR_1.59.0.tar.gz PackageFileSize: 112.3 KiB