Package: CSAR Version: 1.59.0 Command: rm -rf CSAR.buildbin-libdir && mkdir CSAR.buildbin-libdir && E:\biocbuild\bbs-3.21-bioc\R\bin\R.exe CMD INSTALL --build --library=CSAR.buildbin-libdir CSAR_1.59.0.tar.gz StartedAt: 2025-02-21 07:52:57 -0500 (Fri, 21 Feb 2025) EndedAt: 2025-02-21 07:53:18 -0500 (Fri, 21 Feb 2025) EllapsedTime: 21.6 seconds RetCode: 0 Status: OK PackageFile: CSAR_1.59.0.zip PackageFileSize: 190.9 KiB