Package: CSAR Version: 1.59.0 Command: /home/biocbuild/bbs-3.21-bioc/R/bin/R CMD build --keep-empty-dirs --no-resave-data CSAR StartedAt: 2025-02-20 17:05:11 -0500 (Thu, 20 Feb 2025) EndedAt: 2025-02-20 17:05:39 -0500 (Thu, 20 Feb 2025) EllapsedTime: 28.0 seconds RetCode: 0 Status: OK PackageFile: CSAR_1.59.0.tar.gz PackageFileSize: 233.8 KiB