Package: CSAR Version: 1.59.0 Command: /Library/Frameworks/R.framework/Resources/bin/R CMD build --keep-empty-dirs --no-resave-data CSAR StartedAt: 2025-02-20 16:21:49 -0500 (Thu, 20 Feb 2025) EndedAt: 2025-02-20 16:22:22 -0500 (Thu, 20 Feb 2025) EllapsedTime: 32.9 seconds RetCode: 0 Status: OK PackageFile: CSAR_1.59.0.tar.gz PackageFileSize: 233.4 KiB