Package: CSAR Version: 1.59.0 Command: /Library/Frameworks/R.framework/Resources/bin/R CMD check --install=check:CSAR.install-out.txt --library=/Library/Frameworks/R.framework/Resources/library --no-vignettes --timings CSAR_1.59.0.tar.gz StartedAt: 2025-02-21 19:20:56 -0500 (Fri, 21 Feb 2025) EndedAt: 2025-02-21 19:22:04 -0500 (Fri, 21 Feb 2025) EllapsedTime: 67.7 seconds RetCode: 0 Status: OK CheckDir: CSAR.Rcheck Warnings: 0