Package: CSAR Version: 1.59.0 Command: rm -rf CSAR.buildbin-libdir && mkdir CSAR.buildbin-libdir && /Users/biocbuild/BBS/utils/build-universal.sh CSAR_1.59.0.tar.gz /Library/Frameworks/R.framework/Resources/bin/R CSAR.buildbin-libdir StartedAt: 2025-02-20 22:15:22 -0500 (Thu, 20 Feb 2025) EndedAt: 2025-02-20 22:15:27 -0500 (Thu, 20 Feb 2025) EllapsedTime: 5.1 seconds RetCode: 0 Status: OK PackageFile: CSAR_1.59.0.tgz PackageFileSize: 305.2 KiB