Package: CRImage Version: 1.55.0 Command: E:\biocbuild\bbs-3.21-bioc\R\bin\R.exe CMD INSTALL CRImage StartedAt: 2025-02-20 15:58:47 -0500 (Thu, 20 Feb 2025) EndedAt: 2025-02-20 15:59:08 -0500 (Thu, 20 Feb 2025) EllapsedTime: 20.4 seconds RetCode: 0 Status: OK