Package: CRImage Version: 1.55.0 Command: E:\biocbuild\bbs-3.21-bioc\R\bin\R.exe CMD check --no-multiarch --install=check:CRImage.install-out.txt --library=E:\biocbuild\bbs-3.21-bioc\R\library --no-vignettes --timings CRImage_1.55.0.tar.gz StartedAt: 2025-02-20 00:00:48 -0500 (Thu, 20 Feb 2025) EndedAt: 2025-02-20 00:02:24 -0500 (Thu, 20 Feb 2025) EllapsedTime: 95.4 seconds RetCode: 0 Status: OK CheckDir: CRImage.Rcheck Warnings: 0