Package: CRImage Version: 1.55.0 Command: /Library/Frameworks/R.framework/Resources/bin/R CMD INSTALL CRImage StartedAt: 2025-02-20 15:34:50 -0500 (Thu, 20 Feb 2025) EndedAt: 2025-02-20 15:35:04 -0500 (Thu, 20 Feb 2025) EllapsedTime: 14.4 seconds RetCode: 0 Status: OK