Package: CRImage Version: 1.55.0 Command: /Library/Frameworks/R.framework/Resources/bin/R CMD check --install=check:CRImage.install-out.txt --library=/Library/Frameworks/R.framework/Resources/library --no-vignettes --timings CRImage_1.55.0.tar.gz StartedAt: 2025-02-20 19:43:18 -0500 (Thu, 20 Feb 2025) EndedAt: 2025-02-20 19:44:48 -0500 (Thu, 20 Feb 2025) EllapsedTime: 89.3 seconds RetCode: 0 Status: OK CheckDir: CRImage.Rcheck Warnings: 0