Package: CRISPRseek Version: 1.47.1 Command: /home/biocbuild/bbs-3.21-bioc/R/bin/R CMD INSTALL CRISPRseek StartedAt: 2025-02-20 15:52:50 -0500 (Thu, 20 Feb 2025) EndedAt: 2025-02-20 15:53:32 -0500 (Thu, 20 Feb 2025) EllapsedTime: 41.6 seconds RetCode: 0 Status: OK