Package: CRISPRseek Version: 1.47.1 Command: /home/biocbuild/bbs-3.21-bioc/R/bin/R CMD check --install=check:CRISPRseek.install-out.txt --library=/home/biocbuild/bbs-3.21-bioc/R/site-library --timings CRISPRseek_1.47.1.tar.gz StartedAt: 2025-02-20 21:07:22 -0500 (Thu, 20 Feb 2025) EndedAt: 2025-02-20 21:34:16 -0500 (Thu, 20 Feb 2025) EllapsedTime: 1614.1 seconds RetCode: 1 Status: ERROR CheckDir: CRISPRseek.Rcheck Warnings: NA