Package: CRISPRseek Version: 1.47.1 Command: /home/biocbuild/bbs-3.21-bioc/R/bin/R CMD build --keep-empty-dirs --no-resave-data CRISPRseek StartedAt: 2025-02-20 17:04:40 -0500 (Thu, 20 Feb 2025) EndedAt: 2025-02-20 17:07:04 -0500 (Thu, 20 Feb 2025) EllapsedTime: 144.2 seconds RetCode: 0 Status: OK PackageFile: CRISPRseek_1.47.1.tar.gz PackageFileSize: 11.84 MiB