Package: CRISPRseek Version: 1.47.1 Command: rm -rf CRISPRseek.buildbin-libdir && mkdir CRISPRseek.buildbin-libdir && /Users/biocbuild/BBS/utils/build-universal.sh CRISPRseek_1.47.1.tar.gz /Library/Frameworks/R.framework/Resources/bin/R CRISPRseek.buildbin-libdir StartedAt: 2025-02-21 00:25:58 -0500 (Fri, 21 Feb 2025) EndedAt: 2025-02-21 00:26:59 -0500 (Fri, 21 Feb 2025) EllapsedTime: 61.1 seconds RetCode: 0 Status: OK PackageFile: CRISPRseek_1.47.1.tgz PackageFileSize: 12.12 MiB