Package: CRISPRseek Version: 1.47.1 Command: /Library/Frameworks/R.framework/Resources/bin/R CMD build --keep-empty-dirs --no-resave-data CRISPRseek StartedAt: 2025-02-20 16:01:07 -0500 (Thu, 20 Feb 2025) EndedAt: 2025-02-20 16:02:12 -0500 (Thu, 20 Feb 2025) EllapsedTime: 64.7 seconds RetCode: 0 Status: OK PackageFile: CRISPRseek_1.47.1.tar.gz PackageFileSize: 11.84 MiB