Package: CRISPRball Version: 1.3.2 Command: E:\biocbuild\bbs-3.21-bioc\R\bin\R.exe CMD INSTALL CRISPRball StartedAt: 2025-02-20 16:49:38 -0500 (Thu, 20 Feb 2025) EndedAt: 2025-02-20 16:50:39 -0500 (Thu, 20 Feb 2025) EllapsedTime: 61.0 seconds RetCode: 0 Status: OK