Package: CRISPRball Version: 1.3.2 Command: E:\biocbuild\bbs-3.21-bioc\R\bin\R.exe CMD check --no-multiarch --install=check:CRISPRball.install-out.txt --library=E:\biocbuild\bbs-3.21-bioc\R\library --no-vignettes --timings CRISPRball_1.3.2.tar.gz StartedAt: 2025-02-21 00:12:18 -0500 (Fri, 21 Feb 2025) EndedAt: 2025-02-21 00:17:39 -0500 (Fri, 21 Feb 2025) EllapsedTime: 321.4 seconds RetCode: 0 Status: OK CheckDir: CRISPRball.Rcheck Warnings: 0