Package: CRISPRball Version: 1.3.2 Command: chmod a+r CRISPRball -R && E:\biocbuild\bbs-3.21-bioc\R\bin\R.exe CMD build --keep-empty-dirs --no-resave-data CRISPRball StartedAt: 2025-02-20 18:08:08 -0500 (Thu, 20 Feb 2025) EndedAt: 2025-02-20 18:09:08 -0500 (Thu, 20 Feb 2025) EllapsedTime: 59.5 seconds RetCode: 0 Status: OK PackageFile: CRISPRball_1.3.2.tar.gz PackageFileSize: 2.614 MiB