Package: CRISPRball Version: 1.3.2 Command: /home/biocbuild/bbs-3.21-bioc/R/bin/R CMD build --keep-empty-dirs --no-resave-data CRISPRball StartedAt: 2025-02-20 17:04:16 -0500 (Thu, 20 Feb 2025) EndedAt: 2025-02-20 17:04:52 -0500 (Thu, 20 Feb 2025) EllapsedTime: 36.0 seconds RetCode: 0 Status: OK PackageFile: CRISPRball_1.3.2.tar.gz PackageFileSize: 2.614 MiB